BEGIN:VCALENDAR
VERSION:2.0
PRODID:-//Context Consultants - ECPv6.15.20//NONSGML v1.0//EN
CALSCALE:GREGORIAN
METHOD:PUBLISH
X-WR-CALNAME:Context Consultants
X-ORIGINAL-URL:https://contextconsultants.com
X-WR-CALDESC:Events for Context Consultants
REFRESH-INTERVAL;VALUE=DURATION:PT1H
X-Robots-Tag:noindex
X-PUBLISHED-TTL:PT1H
BEGIN:VTIMEZONE
TZID:America/Detroit
BEGIN:DAYLIGHT
TZOFFSETFROM:-0500
TZOFFSETTO:-0400
TZNAME:EDT
DTSTART:20200308T070000
END:DAYLIGHT
BEGIN:STANDARD
TZOFFSETFROM:-0400
TZOFFSETTO:-0500
TZNAME:EST
DTSTART:20201101T060000
END:STANDARD
BEGIN:DAYLIGHT
TZOFFSETFROM:-0500
TZOFFSETTO:-0400
TZNAME:EDT
DTSTART:20210314T070000
END:DAYLIGHT
BEGIN:STANDARD
TZOFFSETFROM:-0400
TZOFFSETTO:-0500
TZNAME:EST
DTSTART:20211107T060000
END:STANDARD
BEGIN:DAYLIGHT
TZOFFSETFROM:-0500
TZOFFSETTO:-0400
TZNAME:EDT
DTSTART:20220313T070000
END:DAYLIGHT
BEGIN:STANDARD
TZOFFSETFROM:-0400
TZOFFSETTO:-0500
TZNAME:EST
DTSTART:20221106T060000
END:STANDARD
END:VTIMEZONE
BEGIN:VEVENT
DTSTART;TZID=America/Detroit:20211001T130000
DTEND;TZID=America/Detroit:20211001T183000
DTSTAMP:20260419T230258
CREATED:20210921T152314Z
LAST-MODIFIED:20211001T150537Z
UID:10000105-1633093200-1633113000@contextconsultants.com
SUMMARY:Workshop 2: Intermediate Training: Inviting Hypnosis
DESCRIPTION:Workshop 2 is offered over four days; your registration covers all four sessions.  \nDAY 1: Friday\, October 1\, 2021 (1:00 pm – 6:30 pm\, EDT)\nDAY 2: Saturday\, October 2\, 2021 (10:00 am – 3:30 pm\, EDT) \nDAY 3: Friday\, October 8\, 2021 (1:00 pm – 6:30 pm\, EDT)\nDAY 4: Saturday\, October 9\, 2021 (10:00 am – 3:30 pm\, EDT) \n20-hour Intermediate Training: Inviting Hypnosis \n\nIntermediate methods for inviting hypnosis\nHypnotic logic and therapeutic change\nAssociation and dissociation\nEmpathic communication versus “yes sets”\nShifting the boundaries of the “self” and of awareness\nMetaphorical communication\nSynchronizing with clients\nThe art of inventing and offering suggestions\nDeveloping and intensifying concordance with clients\nTherapeutic storytelling—inventing and offering stories\nIntravening rather than Intervening\nFormal and informal hypnosis\nUtilizing internal and external interruptions and distractions\nEvoking and utilizing hypnotic phenomena\nConscious and unconscious processes\n\nWorkshop Fees \nThe workshop fees are listed below. The amount depends on whether you are an already-licensed (A-L) therapist or a not-yet licensed (N-Y-L) therapist and/or full-time graduate student.  The following credit cards are accepted: Visa\, MasterCard\, American Express\, and Discover. You may also use a debit card\, prepaid gift card\, your PayPal account\, or PayPal Credit.
URL:https://contextconsultants.com/event/workshop-2-intermediate-training-inviting-hypnosis-part-a-10-1-10-2-and-part-b-10-8-10-9-2/2021-10-01/
LOCATION:https://contextconsultants.com/event/workshop-2-intermediate-training-inviting-hypnosis-part-a-10-1-10-2-and-part-b-10-8-10-9-2/2021-10-01/
END:VEVENT
END:VCALENDAR