BEGIN:VCALENDAR
VERSION:2.0
PRODID:-//Context Consultants - ECPv6.15.20//NONSGML v1.0//EN
CALSCALE:GREGORIAN
METHOD:PUBLISH
X-WR-CALNAME:Context Consultants
X-ORIGINAL-URL:https://contextconsultants.com
X-WR-CALDESC:Events for Context Consultants
REFRESH-INTERVAL;VALUE=DURATION:PT1H
X-Robots-Tag:noindex
X-PUBLISHED-TTL:PT1H
BEGIN:VTIMEZONE
TZID:America/Detroit
BEGIN:DAYLIGHT
TZOFFSETFROM:-0500
TZOFFSETTO:-0400
TZNAME:EDT
DTSTART:20200308T070000
END:DAYLIGHT
BEGIN:STANDARD
TZOFFSETFROM:-0400
TZOFFSETTO:-0500
TZNAME:EST
DTSTART:20201101T060000
END:STANDARD
BEGIN:DAYLIGHT
TZOFFSETFROM:-0500
TZOFFSETTO:-0400
TZNAME:EDT
DTSTART:20210314T070000
END:DAYLIGHT
BEGIN:STANDARD
TZOFFSETFROM:-0400
TZOFFSETTO:-0500
TZNAME:EST
DTSTART:20211107T060000
END:STANDARD
BEGIN:DAYLIGHT
TZOFFSETFROM:-0500
TZOFFSETTO:-0400
TZNAME:EDT
DTSTART:20220313T070000
END:DAYLIGHT
BEGIN:STANDARD
TZOFFSETFROM:-0400
TZOFFSETTO:-0500
TZNAME:EST
DTSTART:20221106T060000
END:STANDARD
END:VTIMEZONE
BEGIN:VEVENT
DTSTART;TZID=America/Detroit:20211022T130000
DTEND;TZID=America/Detroit:20211022T183000
DTSTAMP:20260419T230300
CREATED:20210921T171941Z
LAST-MODIFIED:20210926T122952Z
UID:10000109-1634907600-1634927400@contextconsultants.com
SUMMARY:Workshop 3: Advanced Training: Inventing Change
DESCRIPTION:Workshop 3 is offered over four days; your registration covers all four sessions.  \nDAY 1: Friday\, October 22\, 2021 (1:00 pm – 6:30 pm\, EDT)\nDAY 2: Saturday\, October 23\, 2021 (10:00 am – 3:30 pm\, EDT) \nDAY 3: Friday\, October 29\, 2021 (1:00 pm – 6:30 pm\, EDT)\nDAY 4: Saturday\, October 30\, 2021 (10:00 am – 3:30 pm\, EDT) \n20-hour Advanced Training: Inventing Change \n\nAdvanced methods for inviting hypnosis\nInventing therapeutic change\nExplaining hypnosis to clients\nAvoiding recipe-focused therapy\nIntraventive multi-tasking\nHypnotherapeutic improvisation\nExtemporaneous counterpoint\nUtilization of distractions and problems\nCreating implicit categories\nConstruction of memory\nWorking contextually and collaboratively\nCompleting distinctions\nThinking with a patterned sensibility\nInviting relational freedom\nShifting the boundaries and the experience of the problem\nUnraveling and reconfiguring the pattern of the problem\nPracticing therapeutic non-violence\nLimitations and possibilities\nHypnosis for non-volitional sensations\, thoughts\, emotions\n\nWorkshop Fees \nThe workshop fees are listed below. The amount depends on whether you are an already-licensed (A-L) therapist or a not-yet licensed (N-Y-L) therapist and/or full-time graduate student.  The following credit cards are accepted: Visa\, MasterCard\, American Express\, and Discover. You may also use a debit card\, prepaid gift card\, your PayPal account\, or PayPal Credit.
URL:https://contextconsultants.com/event/workshop-3-advanced-training-inventing-change/2021-10-22/
LOCATION:https://contextconsultants.com/event/workshop-3-advanced-training-inventing-change/2021-10-22/
END:VEVENT
END:VCALENDAR